BEGIN:VCALENDAR
VERSION:2.0
PRODID:-//wp-events-plugin.com//6.6.3//EN
TZID:Australia/Hobart
X-WR-TIMEZONE:Australia/Hobart
BEGIN:VEVENT
UID:826@pabloscocktails.com.au
DTSTART;TZID=Australia/Hobart:20260306T200000
DTEND;TZID=Australia/Hobart:20260306T220000
DTSTAMP:20260227T020942Z
URL:https://pabloscocktails.com.au/plugin_events/cmt-jazz-standards-trio/
SUMMARY:CMT Jazz Standards Trio
DESCRIPTION:The CMT Standards Trio\, featuring Kelly Ottaway on keys\, Seba
 stian Folvig on and Chris McGuinness-Terry on drum kit\, showcase a variet
 y of their favourite standards. Differing from the CMT Trio\, Chris starte
 d this group to explore group interplay reminiscent of some of the favouri
 te jazz ensembles through the eras\, such as the Keith Jarret Trio
ATTACH;FMTTYPE=image/jpeg:https://pabloscocktails.com.au/wp-content/upload
 s/2026/02/PABLOS-CMT-scaled.jpg
CATEGORIES:Live Music Hobart
END:VEVENT
BEGIN:VTIMEZONE
TZID:Australia/Hobart
X-LIC-LOCATION:Australia/Hobart
BEGIN:DAYLIGHT
DTSTART:20251005T030000
TZOFFSETFROM:+1000
TZOFFSETTO:+1100
TZNAME:AEDT
END:DAYLIGHT
END:VTIMEZONE
END:VCALENDAR